BEGIN:VCALENDAR
VERSION:2.0
PRODID:-//IntegrityTO - ECPv6.15.20//NONSGML v1.0//EN
CALSCALE:GREGORIAN
METHOD:PUBLISH
X-ORIGINAL-URL:https://integrityto.ca
X-WR-CALDESC:Events for IntegrityTO
REFRESH-INTERVAL;VALUE=DURATION:PT1H
X-Robots-Tag:noindex
X-PUBLISHED-TTL:PT1H
BEGIN:VTIMEZONE
TZID:America/Toronto
BEGIN:DAYLIGHT
TZOFFSETFROM:-0500
TZOFFSETTO:-0400
TZNAME:EDT
DTSTART:20240310T070000
END:DAYLIGHT
BEGIN:STANDARD
TZOFFSETFROM:-0400
TZOFFSETTO:-0500
TZNAME:EST
DTSTART:20241103T060000
END:STANDARD
BEGIN:DAYLIGHT
TZOFFSETFROM:-0500
TZOFFSETTO:-0400
TZNAME:EDT
DTSTART:20250309T070000
END:DAYLIGHT
BEGIN:STANDARD
TZOFFSETFROM:-0400
TZOFFSETTO:-0500
TZNAME:EST
DTSTART:20251102T060000
END:STANDARD
BEGIN:DAYLIGHT
TZOFFSETFROM:-0500
TZOFFSETTO:-0400
TZNAME:EDT
DTSTART:20260308T070000
END:DAYLIGHT
BEGIN:STANDARD
TZOFFSETFROM:-0400
TZOFFSETTO:-0500
TZNAME:EST
DTSTART:20261101T060000
END:STANDARD
BEGIN:DAYLIGHT
TZOFFSETFROM:-0500
TZOFFSETTO:-0400
TZNAME:EDT
DTSTART:20270314T070000
END:DAYLIGHT
BEGIN:STANDARD
TZOFFSETFROM:-0400
TZOFFSETTO:-0500
TZNAME:EST
DTSTART:20271107T060000
END:STANDARD
END:VTIMEZONE
BEGIN:VEVENT
DTSTART;TZID=America/Toronto:20260204T140000
DTEND;TZID=America/Toronto:20260204T140000
DTSTAMP:20260420T210934
CREATED:20260204T020307Z
LAST-MODIFIED:20260204T020630Z
UID:10000095-1770213600-1770213600@integrityto.ca
SUMMARY:City Council (Special Meeting)
DESCRIPTION:
URL:https://secure.toronto.ca/council/#/committees/2462/27932
LOCATION:Toronto City Hall\, 100 Queen Street West\, Toronto
CATEGORIES:City Hall meetings
ATTACH;FMTTYPE=image/jpeg:https://integrityto.ca/wp-content/uploads/2025/11/SLVQMEC3QVGC5D25QCHR7Z3RNE.jpeg
END:VEVENT
BEGIN:VEVENT
DTSTART;TZID=America/Toronto:20260204T093000
DTEND;TZID=America/Toronto:20260204T093000
DTSTAMP:20260420T210934
CREATED:20251207T223747Z
LAST-MODIFIED:20260110T184124Z
UID:10000053-1770197400-1770197400@integrityto.ca
SUMMARY:City Council
DESCRIPTION:
URL:https://secure.toronto.ca/council/#/committees/2462/27150
LOCATION:Toronto City Hall\, 100 Queen Street West\, Toronto
CATEGORIES:City Hall meetings
ATTACH;FMTTYPE=image/jpeg:https://integrityto.ca/wp-content/uploads/2025/11/SLVQMEC3QVGC5D25QCHR7Z3RNE.jpeg
END:VEVENT
BEGIN:VEVENT
DTSTART;TZID=America/Toronto:20260126T133000
DTEND;TZID=America/Toronto:20260126T133000
DTSTAMP:20260420T210934
CREATED:20260111T005844Z
LAST-MODIFIED:20260113T151856Z
UID:10000086-1769434200-1769434200@integrityto.ca
SUMMARY:CreateTO
DESCRIPTION:
URL:https://secure.toronto.ca/council/#/committees/2483/27352
LOCATION:Toronto City Hall\, 100 Queen Street West\, Toronto
CATEGORIES:City Hall meetings
ATTACH;FMTTYPE=image/jpeg:https://integrityto.ca/wp-content/uploads/2025/11/SLVQMEC3QVGC5D25QCHR7Z3RNE.jpeg
END:VEVENT
BEGIN:VEVENT
DTSTART;TZID=America/Toronto:20260123T093000
DTEND;TZID=America/Toronto:20260123T093000
DTSTAMP:20260420T210934
CREATED:20251206T042511Z
LAST-MODIFIED:20260107T040337Z
UID:10000041-1769160600-1769160600@integrityto.ca
SUMMARY:Budget Committee (2026 Budget Wrap-up)
DESCRIPTION:
URL:https://secure.toronto.ca/council/#/committees/2562/27189
LOCATION:Toronto City Hall\, 100 Queen Street West\, Toronto
CATEGORIES:City Budget
ATTACH;FMTTYPE=image/jpeg:https://integrityto.ca/wp-content/uploads/2025/12/images-1.jpeg
END:VEVENT
BEGIN:VEVENT
DTSTART;TZID=America/Toronto:20260122T093000
DTEND;TZID=America/Toronto:20260122T093000
DTSTAMP:20260420T210934
CREATED:20251206T042301Z
LAST-MODIFIED:20251206T043828Z
UID:10000043-1769074200-1769074200@integrityto.ca
SUMMARY:Planning and Housing Committee
DESCRIPTION:
URL:https://secure.toronto.ca/council/#/committees/2565/27154
LOCATION:Toronto City Hall\, 100 Queen Street West\, Toronto
CATEGORIES:City Hall meetings
ATTACH;FMTTYPE=image/jpeg:https://integrityto.ca/wp-content/uploads/2025/11/SLVQMEC3QVGC5D25QCHR7Z3RNE.jpeg
END:VEVENT
BEGIN:VEVENT
DTSTART;TZID=America/Toronto:20260116T093000
DTEND;TZID=America/Toronto:20260116T093000
DTSTAMP:20260420T210935
CREATED:20251206T041309Z
LAST-MODIFIED:20251227T051201Z
UID:10000050-1768555800-1768555800@integrityto.ca
SUMMARY:Budget Committee (2026 Budget Review)
DESCRIPTION:
URL:https://integrityto.ca/event/budget-committee-2026-budget-review/2026-01-16/
LOCATION:Toronto City Hall\, 100 Queen Street West\, Toronto
CATEGORIES:City Budget
ATTACH;FMTTYPE=image/jpeg:https://integrityto.ca/wp-content/uploads/2025/12/images-1.jpeg
END:VEVENT
BEGIN:VEVENT
DTSTART;TZID=America/Toronto:20260115T093000
DTEND;TZID=America/Toronto:20260115T093000
DTSTAMP:20260420T210935
CREATED:20251206T041309Z
LAST-MODIFIED:20251227T051201Z
UID:10000049-1768469400-1768469400@integrityto.ca
SUMMARY:Budget Committee (2026 Budget Review)
DESCRIPTION:
URL:https://integrityto.ca/event/budget-committee-2026-budget-review/2026-01-15/
LOCATION:Toronto City Hall\, 100 Queen Street West\, Toronto
CATEGORIES:City Budget
ATTACH;FMTTYPE=image/jpeg:https://integrityto.ca/wp-content/uploads/2025/12/images-1.jpeg
END:VEVENT
BEGIN:VEVENT
DTSTART;TZID=America/Toronto:20260114T093000
DTEND;TZID=America/Toronto:20260114T093000
DTSTAMP:20260420T210935
CREATED:20251206T041309Z
LAST-MODIFIED:20251227T051201Z
UID:10000048-1768383000-1768383000@integrityto.ca
SUMMARY:Budget Committee (2026 Budget Review)
DESCRIPTION:
URL:https://integrityto.ca/event/budget-committee-2026-budget-review/2026-01-14/
LOCATION:Toronto City Hall\, 100 Queen Street West\, Toronto
CATEGORIES:City Budget
ATTACH;FMTTYPE=image/jpeg:https://integrityto.ca/wp-content/uploads/2025/12/images-1.jpeg
END:VEVENT
BEGIN:VEVENT
DTSTART;TZID=America/Toronto:20260113T180000
DTEND;TZID=America/Toronto:20260113T200000
DTSTAMP:20260420T210935
CREATED:20251222T201742Z
LAST-MODIFIED:20251222T202145Z
UID:10000067-1768327200-1768334400@integrityto.ca
SUMMARY:Wards 10 & 13 Budget Town Hall
DESCRIPTION:
URL:https://www.ausmamalik.ca/2026budgettownhall
LOCATION:Toronto City Hall\, 100 Queen Street West\, Toronto
CATEGORIES:City Budget,City Councillors
ATTACH;FMTTYPE=image/jpeg:https://integrityto.ca/wp-content/uploads/2025/12/IMG_3490.jpg
END:VEVENT
BEGIN:VEVENT
DTSTART;TZID=America/Toronto:20260113T093000
DTEND;TZID=America/Toronto:20260113T093000
DTSTAMP:20260420T210935
CREATED:20251206T040819Z
LAST-MODIFIED:20251206T044244Z
UID:10000047-1768296600-1768296600@integrityto.ca
SUMMARY:Toronto and East York Community Council
DESCRIPTION:
URL:https://secure.toronto.ca/council/#/committees/2466/27157
LOCATION:Toronto City Hall\, 100 Queen Street West\, Toronto
CATEGORIES:City Hall meetings
ATTACH;FMTTYPE=image/jpeg:https://integrityto.ca/wp-content/uploads/2025/11/SLVQMEC3QVGC5D25QCHR7Z3RNE.jpeg
END:VEVENT
BEGIN:VEVENT
DTSTART;TZID=America/Toronto:20260108T110000
DTEND;TZID=America/Toronto:20260108T110000
DTSTAMP:20260420T210935
CREATED:20251206T040256Z
LAST-MODIFIED:20260107T035219Z
UID:10000039-1767870000-1767870000@integrityto.ca
SUMMARY:Budget Committee (2026 Budget Launch)
DESCRIPTION:
URL:https://secure.toronto.ca/council/#/committees/2562/27152
LOCATION:Toronto City Hall\, 100 Queen Street West\, Toronto
CATEGORIES:City Budget
ATTACH;FMTTYPE=image/jpeg:https://integrityto.ca/wp-content/uploads/2025/12/images-1.jpeg
END:VEVENT
BEGIN:VEVENT
DTSTART;TZID=America/Toronto:20251218T093000
DTEND;TZID=America/Toronto:20251218T093000
DTSTAMP:20260420T210935
CREATED:20251117T162324Z
LAST-MODIFIED:20251124T194236Z
UID:10000033-1766050200-1766050200@integrityto.ca
SUMMARY:City Council Meeting
DESCRIPTION:
URL:https://secure.toronto.ca/council/#/committees/2462/25769
LOCATION:Toronto City Hall\, 100 Queen Street West\, Toronto
CATEGORIES:City Hall meetings
ATTACH;FMTTYPE=image/jpeg:https://integrityto.ca/wp-content/uploads/2025/11/SLVQMEC3QVGC5D25QCHR7Z3RNE.jpeg
END:VEVENT
BEGIN:VEVENT
DTSTART;TZID=America/Toronto:20251217T093000
DTEND;TZID=America/Toronto:20251217T093000
DTSTAMP:20260420T210935
CREATED:20251117T162215Z
LAST-MODIFIED:20251124T194312Z
UID:10000034-1765963800-1765963800@integrityto.ca
SUMMARY:City Council Meeting
DESCRIPTION:
URL:https://secure.toronto.ca/council/#/committees/2462/25769
LOCATION:Toronto City Hall\, 100 Queen Street West\, Toronto
CATEGORIES:City Hall meetings
ATTACH;FMTTYPE=image/jpeg:https://integrityto.ca/wp-content/uploads/2025/11/SLVQMEC3QVGC5D25QCHR7Z3RNE.jpeg
END:VEVENT
BEGIN:VEVENT
DTSTART;TZID=America/Toronto:20251216T093000
DTEND;TZID=America/Toronto:20251216T093000
DTSTAMP:20260420T210935
CREATED:20251107T121432Z
LAST-MODIFIED:20251124T194158Z
UID:10000024-1765877400-1765877400@integrityto.ca
SUMMARY:City Council Meeting
DESCRIPTION:
URL:https://secure.toronto.ca/council/#/committees/2462/25769
LOCATION:Toronto City Hall\, 100 Queen Street West\, Toronto
CATEGORIES:City Hall meetings
ATTACH;FMTTYPE=image/jpeg:https://integrityto.ca/wp-content/uploads/2025/11/SLVQMEC3QVGC5D25QCHR7Z3RNE.jpeg
END:VEVENT
BEGIN:VEVENT
DTSTART;TZID=America/Toronto:20251212T163000
DTEND;TZID=America/Toronto:20251212T200000
DTSTAMP:20260420T210935
CREATED:20251124T201632Z
LAST-MODIFIED:20251124T201632Z
UID:10000036-1765557000-1765569600@integrityto.ca
SUMMARY:Christian Heritage Month Celebration
DESCRIPTION:
URL:https://integrityto.ca/event/christian-heritage-month-celebration/
LOCATION:Toronto City Hall\, 100 Queen Street West\, Toronto
CATEGORIES:City Councillors
ATTACH;FMTTYPE=image/jpeg:https://integrityto.ca/wp-content/uploads/2025/11/IMG_3023.jpg
END:VEVENT
BEGIN:VEVENT
DTSTART;TZID=America/Toronto:20251210T100000
DTEND;TZID=America/Toronto:20251210T100000
DTSTAMP:20260420T210935
CREATED:20251107T121313Z
LAST-MODIFIED:20251124T194400Z
UID:10000023-1765360800-1765360800@integrityto.ca
SUMMARY:Toronto Transit Commission
DESCRIPTION:
URL:https://secure.toronto.ca/council/#/committees/2944/26577
LOCATION:Toronto City Hall\, 100 Queen Street West\, Toronto
CATEGORIES:City Hall meetings
ATTACH;FMTTYPE=image/jpeg:https://integrityto.ca/wp-content/uploads/2025/11/SLVQMEC3QVGC5D25QCHR7Z3RNE.jpeg
END:VEVENT
BEGIN:VEVENT
DTSTART;TZID=America/Toronto:20251209T093000
DTEND;TZID=America/Toronto:20251209T093000
DTSTAMP:20260420T210935
CREATED:20251107T121153Z
LAST-MODIFIED:20251124T205351Z
UID:10000022-1765272600-1765272600@integrityto.ca
SUMMARY:Executive Committee
DESCRIPTION:
URL:https://secure.toronto.ca/council/#/committees/2468/25800
LOCATION:Toronto City Hall\, 100 Queen Street West\, Toronto
CATEGORIES:City Hall meetings
ATTACH;FMTTYPE=image/jpeg:https://integrityto.ca/wp-content/uploads/2025/11/SLVQMEC3QVGC5D25QCHR7Z3RNE.jpeg
END:VEVENT
BEGIN:VEVENT
DTSTART;TZID=America/Toronto:20251208T093000
DTEND;TZID=America/Toronto:20251208T093000
DTSTAMP:20260420T210935
CREATED:20251107T121051Z
LAST-MODIFIED:20251124T194519Z
UID:10000021-1765186200-1765186200@integrityto.ca
SUMMARY:General Government Committee
DESCRIPTION:
URL:https://secure.toronto.ca/council/#/committees/2542/25823
LOCATION:Toronto City Hall\, 100 Queen Street West\, Toronto
CATEGORIES:City Hall meetings
ATTACH;FMTTYPE=image/jpeg:https://integrityto.ca/wp-content/uploads/2025/11/SLVQMEC3QVGC5D25QCHR7Z3RNE.jpeg
END:VEVENT
BEGIN:VEVENT
DTSTART;TZID=America/Toronto:20251204T093000
DTEND;TZID=America/Toronto:20251204T093000
DTSTAMP:20260420T210935
CREATED:20251107T120712Z
LAST-MODIFIED:20251124T194646Z
UID:10000019-1764840600-1764840600@integrityto.ca
SUMMARY:Infrastructure and Environment Committee
DESCRIPTION:
URL:https://secure.toronto.ca/council/#/committees/2566/25844
LOCATION:Toronto City Hall\, 100 Queen Street West\, Toronto
CATEGORIES:City Hall meetings
ATTACH;FMTTYPE=image/jpeg:https://integrityto.ca/wp-content/uploads/2025/11/SLVQMEC3QVGC5D25QCHR7Z3RNE.jpeg
END:VEVENT
BEGIN:VEVENT
DTSTART;TZID=America/Toronto:20251203T093000
DTEND;TZID=America/Toronto:20251203T093000
DTSTAMP:20260420T210935
CREATED:20251107T120542Z
LAST-MODIFIED:20251124T194822Z
UID:10000018-1764754200-1764754200@integrityto.ca
SUMMARY:Planning and Housing Committee
DESCRIPTION:
URL:https://secure.toronto.ca/council/#/committees/2565/25815
LOCATION:Toronto City Hall\, 100 Queen Street West\, Toronto
CATEGORIES:City Hall meetings
ATTACH;FMTTYPE=image/jpeg:https://integrityto.ca/wp-content/uploads/2025/11/SLVQMEC3QVGC5D25QCHR7Z3RNE.jpeg
END:VEVENT
BEGIN:VEVENT
DTSTART;TZID=America/Toronto:20251202T093000
DTEND;TZID=America/Toronto:20251202T093000
DTSTAMP:20260420T210935
CREATED:20251107T120434Z
LAST-MODIFIED:20251124T195153Z
UID:10000017-1764667800-1764667800@integrityto.ca
SUMMARY:Economic and Community Development Committee
DESCRIPTION:
URL:https://secure.toronto.ca/council/#/committees/2563/25831
LOCATION:Toronto City Hall\, 100 Queen Street West\, Toronto
CATEGORIES:City Hall meetings
ATTACH;FMTTYPE=image/jpeg:https://integrityto.ca/wp-content/uploads/2025/11/SLVQMEC3QVGC5D25QCHR7Z3RNE.jpeg
END:VEVENT
BEGIN:VEVENT
DTSTART;TZID=America/Toronto:20251127T093000
DTEND;TZID=America/Toronto:20251127T093000
DTSTAMP:20260420T210935
CREATED:20251107T120111Z
LAST-MODIFIED:20251124T195229Z
UID:10000016-1764235800-1764235800@integrityto.ca
SUMMARY:Toronto and East York Community Council
DESCRIPTION:
URL:https://secure.toronto.ca/council/#/committees/2466/25854
LOCATION:Toronto City Hall\, 100 Queen Street West\, Toronto
CATEGORIES:City Hall meetings
ATTACH;FMTTYPE=image/jpeg:https://integrityto.ca/wp-content/uploads/2025/11/SLVQMEC3QVGC5D25QCHR7Z3RNE.jpeg
END:VEVENT
BEGIN:VEVENT
DTSTART;TZID=America/Toronto:20251124T093000
DTEND;TZID=America/Toronto:20251124T093000
DTSTAMP:20260420T210935
CREATED:20251107T115354Z
LAST-MODIFIED:20251124T195508Z
UID:10000013-1763976600-1763976600@integrityto.ca
SUMMARY:Toronto Board of Health
DESCRIPTION:
URL:https://secure.toronto.ca/council/#/committees/2564/25810
LOCATION:Toronto City Hall\, 100 Queen Street West\, Toronto
CATEGORIES:City Hall meetings
ATTACH;FMTTYPE=image/jpeg:https://integrityto.ca/wp-content/uploads/2025/11/SLVQMEC3QVGC5D25QCHR7Z3RNE.jpeg
END:VEVENT
END:VCALENDAR