BEGIN:VCALENDAR
VERSION:2.0
PRODID:-//IntegrityTO - ECPv6.15.20//NONSGML v1.0//EN
CALSCALE:GREGORIAN
METHOD:PUBLISH
X-ORIGINAL-URL:https://integrityto.ca
X-WR-CALDESC:Events for IntegrityTO
REFRESH-INTERVAL;VALUE=DURATION:PT1H
X-Robots-Tag:noindex
X-PUBLISHED-TTL:PT1H
BEGIN:VTIMEZONE
TZID:America/Toronto
BEGIN:DAYLIGHT
TZOFFSETFROM:-0500
TZOFFSETTO:-0400
TZNAME:EDT
DTSTART:20240310T070000
END:DAYLIGHT
BEGIN:STANDARD
TZOFFSETFROM:-0400
TZOFFSETTO:-0500
TZNAME:EST
DTSTART:20241103T060000
END:STANDARD
BEGIN:DAYLIGHT
TZOFFSETFROM:-0500
TZOFFSETTO:-0400
TZNAME:EDT
DTSTART:20250309T070000
END:DAYLIGHT
BEGIN:STANDARD
TZOFFSETFROM:-0400
TZOFFSETTO:-0500
TZNAME:EST
DTSTART:20251102T060000
END:STANDARD
BEGIN:DAYLIGHT
TZOFFSETFROM:-0500
TZOFFSETTO:-0400
TZNAME:EDT
DTSTART:20260308T070000
END:DAYLIGHT
BEGIN:STANDARD
TZOFFSETFROM:-0400
TZOFFSETTO:-0500
TZNAME:EST
DTSTART:20261101T060000
END:STANDARD
END:VTIMEZONE
BEGIN:VEVENT
DTSTART;TZID=America/Toronto:20251119T180000
DTEND;TZID=America/Toronto:20251119T200000
DTSTAMP:20260420T193112
CREATED:20251118T184844Z
LAST-MODIFIED:20251124T195657Z
UID:10000031-1763575200-1763582400@integrityto.ca
SUMMARY:Scarborough North Budget Town Hall
DESCRIPTION:
URL:https://integrityto.ca/event/scarborough-north-budget-town-hall/
LOCATION:Lester B. Pearson CI\, 150 Tapscott Road\, Toronto
CATEGORIES:City Councillors
ATTACH;FMTTYPE=image/png:https://integrityto.ca/wp-content/uploads/2025/11/Screenshot-2025-11-18-13.38.06.png
END:VEVENT
END:VCALENDAR