BEGIN:VCALENDAR
VERSION:2.0
PRODID:-//IntegrityTO - ECPv6.15.20//NONSGML v1.0//EN
CALSCALE:GREGORIAN
METHOD:PUBLISH
X-WR-CALNAME:IntegrityTO
X-ORIGINAL-URL:https://integrityto.ca
X-WR-CALDESC:Events for IntegrityTO
REFRESH-INTERVAL;VALUE=DURATION:PT1H
X-Robots-Tag:noindex
X-PUBLISHED-TTL:PT1H
BEGIN:VTIMEZONE
TZID:America/Toronto
BEGIN:DAYLIGHT
TZOFFSETFROM:-0500
TZOFFSETTO:-0400
TZNAME:EDT
DTSTART:20250309T070000
END:DAYLIGHT
BEGIN:STANDARD
TZOFFSETFROM:-0400
TZOFFSETTO:-0500
TZNAME:EST
DTSTART:20251102T060000
END:STANDARD
BEGIN:DAYLIGHT
TZOFFSETFROM:-0500
TZOFFSETTO:-0400
TZNAME:EDT
DTSTART:20260308T070000
END:DAYLIGHT
BEGIN:STANDARD
TZOFFSETFROM:-0400
TZOFFSETTO:-0500
TZNAME:EST
DTSTART:20261101T060000
END:STANDARD
BEGIN:DAYLIGHT
TZOFFSETFROM:-0500
TZOFFSETTO:-0400
TZNAME:EDT
DTSTART:20270314T070000
END:DAYLIGHT
BEGIN:STANDARD
TZOFFSETFROM:-0400
TZOFFSETTO:-0500
TZNAME:EST
DTSTART:20271107T060000
END:STANDARD
END:VTIMEZONE
BEGIN:VEVENT
DTSTART;TZID=America/Toronto:20260507T183000
DTEND;TZID=America/Toronto:20260507T200000
DTSTAMP:20260420T162218
CREATED:20260419T051644Z
LAST-MODIFIED:20260419T051650Z
UID:10000153-1778178600-1778184000@integrityto.ca
SUMMARY:Neethan Shan West Hill Community Forum
DESCRIPTION:
URL:https://integrityto.ca/event/neethan-shan-west-hill-community-forum/
LOCATION:Heron Park Community Centre\, 292 Manse Road\, Scarborough
CATEGORIES:City Councillors
ATTACH;FMTTYPE=image/jpeg:https://integrityto.ca/wp-content/uploads/2026/04/IMG_4975.jpg
END:VEVENT
END:VCALENDAR