BEGIN:VCALENDAR
VERSION:2.0
PRODID:-//IntegrityTO - ECPv6.15.20//NONSGML v1.0//EN
CALSCALE:GREGORIAN
METHOD:PUBLISH
X-WR-CALNAME:IntegrityTO
X-ORIGINAL-URL:https://integrityto.ca
X-WR-CALDESC:Events for IntegrityTO
REFRESH-INTERVAL;VALUE=DURATION:PT1H
X-Robots-Tag:noindex
X-PUBLISHED-TTL:PT1H
BEGIN:VTIMEZONE
TZID:America/Toronto
BEGIN:DAYLIGHT
TZOFFSETFROM:-0500
TZOFFSETTO:-0400
TZNAME:EDT
DTSTART:20240310T070000
END:DAYLIGHT
BEGIN:STANDARD
TZOFFSETFROM:-0400
TZOFFSETTO:-0500
TZNAME:EST
DTSTART:20241103T060000
END:STANDARD
BEGIN:DAYLIGHT
TZOFFSETFROM:-0500
TZOFFSETTO:-0400
TZNAME:EDT
DTSTART:20250309T070000
END:DAYLIGHT
BEGIN:STANDARD
TZOFFSETFROM:-0400
TZOFFSETTO:-0500
TZNAME:EST
DTSTART:20251102T060000
END:STANDARD
BEGIN:DAYLIGHT
TZOFFSETFROM:-0500
TZOFFSETTO:-0400
TZNAME:EDT
DTSTART:20260308T070000
END:DAYLIGHT
BEGIN:STANDARD
TZOFFSETFROM:-0400
TZOFFSETTO:-0500
TZNAME:EST
DTSTART:20261101T060000
END:STANDARD
END:VTIMEZONE
BEGIN:VEVENT
DTSTART;TZID=America/Toronto:20251117T183000
DTEND;TZID=America/Toronto:20251117T200000
DTSTAMP:20260420T202246
CREATED:20251028T131814Z
LAST-MODIFIED:20251124T200320Z
UID:10000010-1763404200-1763409600@integrityto.ca
SUMMARY:Ward 16 Town Hall
DESCRIPTION:
URL:https://integrityto.ca/event/ward-16-town-hall/
LOCATION:Ranchdale Public School\, 60 Ranchdale Crescent\, Toronto
CATEGORIES:City Councillors
ATTACH;FMTTYPE=image/png:https://integrityto.ca/wp-content/uploads/2025/10/Screenshot-2025-10-28-09.15.39.png
END:VEVENT
BEGIN:VEVENT
DTSTART;TZID=America/Toronto:20251110T180000
DTEND;TZID=America/Toronto:20251110T190000
DTSTAMP:20260420T202246
CREATED:20251109T165243Z
LAST-MODIFIED:20251124T203131Z
UID:10000028-1762797600-1762801200@integrityto.ca
SUMMARY:Community Consultation
DESCRIPTION:
URL:https://integrityto.ca/event/community-consultation/
LOCATION:St. Paul’s United Church\, 200 McIntosh Street\, Scarborough\, Ontario\, M1N 3Z3\, Canada
CATEGORIES:City Councillors
ATTACH;FMTTYPE=image/jpeg:https://integrityto.ca/wp-content/uploads/2025/11/Screenshot-2025-11-09-at-11.50.29-AM.jpg
END:VEVENT
BEGIN:VEVENT
DTSTART;TZID=America/Toronto:20251104T173000
DTEND;TZID=America/Toronto:20251104T210000
DTSTAMP:20260420T202246
CREATED:20251028T125540Z
LAST-MODIFIED:20251124T200716Z
UID:10000007-1762277400-1762290000@integrityto.ca
SUMMARY:Newtonbrook East Town Hall
DESCRIPTION:
URL:https://www.lilycheng.ca/event-details-registration/newtonbrook-east-spaghetti-town-hall-free-event-2
CATEGORIES:City Councillors
ATTACH;FMTTYPE=image/avif:https://integrityto.ca/wp-content/uploads/2025/10/04ed3a_66aec6e35695482fa10604ca48c5bc84mv2.avif
END:VEVENT
BEGIN:VEVENT
DTSTART;TZID=America/Toronto:20251030T180000
DTEND;TZID=America/Toronto:20251030T193000
DTSTAMP:20260420T202246
CREATED:20251028T121948Z
LAST-MODIFIED:20251124T202853Z
UID:10000003-1761847200-1761852600@integrityto.ca
SUMMARY:Community Walk with Alejandra Bravo
DESCRIPTION:
URL:https://integrityto.ca/event/community-walk-with-alejandra-bravo/
CATEGORIES:City Councillors
ATTACH;FMTTYPE=image/jpeg:https://integrityto.ca/wp-content/uploads/2025/10/C646E6C8-3548-43A0-A4BD-A51475A36D72.jpeg
END:VEVENT
BEGIN:VEVENT
DTSTART;TZID=America/Toronto:20251029T180000
DTEND;TZID=America/Toronto:20251029T210000
DTSTAMP:20260420T202246
CREATED:20251028T124515Z
LAST-MODIFIED:20251124T200933Z
UID:10000006-1761760800-1761771600@integrityto.ca
SUMMARY:Willowdale East Town Hall
DESCRIPTION:
URL:https://www.lilycheng.ca/event-details-registration/willowdale-east-spaghetti-town-hall-free-event-3
CATEGORIES:City Councillors
ATTACH;FMTTYPE=image/avif:https://integrityto.ca/wp-content/uploads/2025/10/b77c3d_220ca4788aa644bea2b6f5b9c69105bcmv2.avif
END:VEVENT
BEGIN:VEVENT
DTSTART;TZID=America/Toronto:20251029T100000
DTEND;TZID=America/Toronto:20251029T120000
DTSTAMP:20260420T202246
CREATED:20251028T122538Z
LAST-MODIFIED:20251124T200827Z
UID:10000004-1761732000-1761739200@integrityto.ca
SUMMARY:Coffee with Parthi Kandavel
DESCRIPTION:
URL:https://integrityto.ca/event/coffee-with-parthi-kandavel/
CATEGORIES:City Councillors
ATTACH;FMTTYPE=image/jpeg:https://integrityto.ca/wp-content/uploads/2025/10/unnamed.jpg
END:VEVENT
END:VCALENDAR