BEGIN:VCALENDAR
VERSION:2.0
PRODID:-//IntegrityTO - ECPv6.15.20//NONSGML v1.0//EN
CALSCALE:GREGORIAN
METHOD:PUBLISH
X-WR-CALNAME:IntegrityTO
X-ORIGINAL-URL:https://integrityto.ca
X-WR-CALDESC:Events for IntegrityTO
REFRESH-INTERVAL;VALUE=DURATION:PT1H
X-Robots-Tag:noindex
X-PUBLISHED-TTL:PT1H
BEGIN:VTIMEZONE
TZID:America/Toronto
BEGIN:DAYLIGHT
TZOFFSETFROM:-0500
TZOFFSETTO:-0400
TZNAME:EDT
DTSTART:20250309T070000
END:DAYLIGHT
BEGIN:STANDARD
TZOFFSETFROM:-0400
TZOFFSETTO:-0500
TZNAME:EST
DTSTART:20251102T060000
END:STANDARD
BEGIN:DAYLIGHT
TZOFFSETFROM:-0500
TZOFFSETTO:-0400
TZNAME:EDT
DTSTART:20260308T070000
END:DAYLIGHT
BEGIN:STANDARD
TZOFFSETFROM:-0400
TZOFFSETTO:-0500
TZNAME:EST
DTSTART:20261101T060000
END:STANDARD
BEGIN:DAYLIGHT
TZOFFSETFROM:-0500
TZOFFSETTO:-0400
TZNAME:EDT
DTSTART:20270314T070000
END:DAYLIGHT
BEGIN:STANDARD
TZOFFSETFROM:-0400
TZOFFSETTO:-0500
TZNAME:EST
DTSTART:20271107T060000
END:STANDARD
END:VTIMEZONE
BEGIN:VEVENT
DTSTART;TZID=America/Toronto:20260520T093000
DTEND;TZID=America/Toronto:20260520T093000
DTSTAMP:20260420T140419
CREATED:20260307T221747Z
LAST-MODIFIED:20260308T174154Z
UID:10000132-1779269400-1779269400@integrityto.ca
SUMMARY:City Council
DESCRIPTION:
URL:https://integrityto.ca/event/city-council-2/2026-05-20/
LOCATION:Toronto City Hall\, 100 Queen Street West\, Toronto
CATEGORIES:City Hall meetings
ATTACH;FMTTYPE=image/jpeg:https://integrityto.ca/wp-content/uploads/2025/11/SLVQMEC3QVGC5D25QCHR7Z3RNE.jpeg
END:VEVENT
BEGIN:VEVENT
DTSTART;TZID=America/Toronto:20260521T093000
DTEND;TZID=America/Toronto:20260521T170000
DTSTAMP:20260420T140419
CREATED:20260307T221747Z
LAST-MODIFIED:20260308T174154Z
UID:10000133-1779355800-1779382800@integrityto.ca
SUMMARY:City Council
DESCRIPTION:
URL:https://integrityto.ca/event/city-council-2/2026-05-21/
LOCATION:Toronto City Hall\, 100 Queen Street West\, Toronto
CATEGORIES:City Hall meetings
ATTACH;FMTTYPE=image/jpeg:https://integrityto.ca/wp-content/uploads/2025/11/SLVQMEC3QVGC5D25QCHR7Z3RNE.jpeg
END:VEVENT
BEGIN:VEVENT
DTSTART;TZID=America/Toronto:20260522T093000
DTEND;TZID=America/Toronto:20260522T134155
DTSTAMP:20260420T140419
CREATED:20260307T221747Z
LAST-MODIFIED:20260308T174154Z
UID:10000139-1779442200-1779457315@integrityto.ca
SUMMARY:City Council
DESCRIPTION:
URL:https://integrityto.ca/event/city-council-2/2026-05-22/
LOCATION:Toronto City Hall\, 100 Queen Street West\, Toronto
CATEGORIES:City Hall meetings
ATTACH;FMTTYPE=image/jpeg:https://integrityto.ca/wp-content/uploads/2025/11/SLVQMEC3QVGC5D25QCHR7Z3RNE.jpeg
END:VEVENT
BEGIN:VEVENT
DTSTART;TZID=America/Toronto:20260526T093000
DTEND;TZID=America/Toronto:20260526T093000
DTSTAMP:20260420T140419
CREATED:20260307T222008Z
LAST-MODIFIED:20260307T222051Z
UID:10000134-1779787800-1779787800@integrityto.ca
SUMMARY:Etobicoke York Community Council
DESCRIPTION:
URL:https://secure.toronto.ca/council/#/committees/2464/27209
LOCATION:Etobicoke Civic Centre\, 399 The West Mall\, Toronto
CATEGORIES:City Hall meetings
ATTACH;FMTTYPE=image/jpeg:https://integrityto.ca/wp-content/uploads/2025/11/SLVQMEC3QVGC5D25QCHR7Z3RNE.jpeg
END:VEVENT
BEGIN:VEVENT
DTSTART;TZID=America/Toronto:20260526T093000
DTEND;TZID=America/Toronto:20260526T093000
DTSTAMP:20260420T140419
CREATED:20260307T222234Z
LAST-MODIFIED:20260307T224504Z
UID:10000138-1779787800-1779787800@integrityto.ca
SUMMARY:North York Community Council
DESCRIPTION:
URL:https://secure.toronto.ca/council/#/committees/2465/27164
LOCATION:North York Civic Centre\, 5100 Yonge Street\, Toronto
CATEGORIES:City Hall meetings
ATTACH;FMTTYPE=image/jpeg:https://integrityto.ca/wp-content/uploads/2025/11/SLVQMEC3QVGC5D25QCHR7Z3RNE.jpeg
END:VEVENT
BEGIN:VEVENT
DTSTART;TZID=America/Toronto:20260528T093000
DTEND;TZID=America/Toronto:20260528T093000
DTSTAMP:20260420T140419
CREATED:20260307T223007Z
LAST-MODIFIED:20260307T224325Z
UID:10000137-1779960600-1779960600@integrityto.ca
SUMMARY:Scarborough Community Council
DESCRIPTION:
URL:https://secure.toronto.ca/council/#/committees/2467/27165
LOCATION:Scarborough Civic Centre\, 150 Borough Drive\, Toronto
CATEGORIES:City Hall meetings
ATTACH;FMTTYPE=image/jpeg:https://integrityto.ca/wp-content/uploads/2025/11/SLVQMEC3QVGC5D25QCHR7Z3RNE.jpeg
END:VEVENT
BEGIN:VEVENT
DTSTART;TZID=America/Toronto:20260528T093000
DTEND;TZID=America/Toronto:20260528T093000
DTSTAMP:20260420T140419
CREATED:20260307T223257Z
LAST-MODIFIED:20260307T224128Z
UID:10000136-1779960600-1779960600@integrityto.ca
SUMMARY:Toronto and East York Community Council
DESCRIPTION:
URL:https://secure.toronto.ca/council/#/committees/2466/27160
LOCATION:Toronto City Hall\, 100 Queen Street West\, Toronto
CATEGORIES:City Hall meetings
ATTACH;FMTTYPE=image/jpeg:https://integrityto.ca/wp-content/uploads/2025/11/SLVQMEC3QVGC5D25QCHR7Z3RNE.jpeg
END:VEVENT
BEGIN:VEVENT
DTSTART;TZID=America/Toronto:20260528T183000
DTEND;TZID=America/Toronto:20260528T200000
DTSTAMP:20260420T140419
CREATED:20260419T052045Z
LAST-MODIFIED:20260419T052115Z
UID:10000155-1779993000-1779998400@integrityto.ca
SUMMARY:Neethan Shan West Rouge Community Forum
DESCRIPTION:
URL:https://integrityto.ca/event/neethan-shan-west-rouge-community-forum/
LOCATION:West Rouge Community Centre\, 270 Rouge Hills Drive\, Scarborough
CATEGORIES:City Councillors
ATTACH;FMTTYPE=image/jpeg:https://integrityto.ca/wp-content/uploads/2026/04/IMG_4975.jpg
END:VEVENT
BEGIN:VEVENT
DTSTART;TZID=America/Toronto:20260529T093000
DTEND;TZID=America/Toronto:20260529T093000
DTSTAMP:20260420T140419
CREATED:20260307T223638Z
LAST-MODIFIED:20260307T223648Z
UID:10000135-1780047000-1780047000@integrityto.ca
SUMMARY:Toronto Parking Authority
DESCRIPTION:
URL:https://secure.toronto.ca/council/#/committees/2490/27371
LOCATION:Toronto City Hall\, 100 Queen Street West\, Toronto
CATEGORIES:City Hall meetings
ATTACH;FMTTYPE=image/jpeg:https://integrityto.ca/wp-content/uploads/2025/11/SLVQMEC3QVGC5D25QCHR7Z3RNE.jpeg
END:VEVENT
END:VCALENDAR