BEGIN:VCALENDAR
VERSION:2.0
PRODID:-//IntegrityTO - ECPv6.15.20//NONSGML v1.0//EN
CALSCALE:GREGORIAN
METHOD:PUBLISH
X-WR-CALNAME:IntegrityTO
X-ORIGINAL-URL:https://integrityto.ca
X-WR-CALDESC:Events for IntegrityTO
REFRESH-INTERVAL;VALUE=DURATION:PT1H
X-Robots-Tag:noindex
X-PUBLISHED-TTL:PT1H
BEGIN:VTIMEZONE
TZID:America/Toronto
BEGIN:DAYLIGHT
TZOFFSETFROM:-0500
TZOFFSETTO:-0400
TZNAME:EDT
DTSTART:20250309T070000
END:DAYLIGHT
BEGIN:STANDARD
TZOFFSETFROM:-0400
TZOFFSETTO:-0500
TZNAME:EST
DTSTART:20251102T060000
END:STANDARD
BEGIN:DAYLIGHT
TZOFFSETFROM:-0500
TZOFFSETTO:-0400
TZNAME:EDT
DTSTART:20260308T070000
END:DAYLIGHT
BEGIN:STANDARD
TZOFFSETFROM:-0400
TZOFFSETTO:-0500
TZNAME:EST
DTSTART:20261101T060000
END:STANDARD
BEGIN:DAYLIGHT
TZOFFSETFROM:-0500
TZOFFSETTO:-0400
TZNAME:EDT
DTSTART:20270314T070000
END:DAYLIGHT
BEGIN:STANDARD
TZOFFSETFROM:-0400
TZOFFSETTO:-0500
TZNAME:EST
DTSTART:20271107T060000
END:STANDARD
END:VTIMEZONE
BEGIN:VEVENT
DTSTART;TZID=America/Toronto:20260331T093000
DTEND;TZID=America/Toronto:20260331T093000
DTSTAMP:20260420T093956
CREATED:20260111T013515Z
LAST-MODIFIED:20260113T153353Z
UID:10000078-1774949400-1774949400@integrityto.ca
SUMMARY:North York Community Council
DESCRIPTION:
URL:https://secure.toronto.ca/council/#/committees/2465/27199
LOCATION:North York Civic Centre\, 5100 Yonge Street\, Toronto
CATEGORIES:City Hall meetings
ATTACH;FMTTYPE=image/jpeg:https://integrityto.ca/wp-content/uploads/2025/11/SLVQMEC3QVGC5D25QCHR7Z3RNE.jpeg
END:VEVENT
BEGIN:VEVENT
DTSTART;TZID=America/Toronto:20260331T093000
DTEND;TZID=America/Toronto:20260331T093000
DTSTAMP:20260420T093956
CREATED:20260111T013127Z
LAST-MODIFIED:20260113T154448Z
UID:10000085-1774949400-1774949400@integrityto.ca
SUMMARY:Etobicoke York Community Council
DESCRIPTION:
URL:https://secure.toronto.ca/council/#/committees/2464/27198
LOCATION:Etobicoke Civic Centre\, 399 The West Mall\, Toronto
CATEGORIES:City Hall meetings
ATTACH;FMTTYPE=image/jpeg:https://integrityto.ca/wp-content/uploads/2025/11/SLVQMEC3QVGC5D25QCHR7Z3RNE.jpeg
END:VEVENT
BEGIN:VEVENT
DTSTART;TZID=America/Toronto:20260330T093000
DTEND;TZID=America/Toronto:20260330T093000
DTSTAMP:20260420T093956
CREATED:20260111T012920Z
LAST-MODIFIED:20260113T154219Z
UID:10000084-1774863000-1774863000@integrityto.ca
SUMMARY:Board of Health
DESCRIPTION:
URL:https://secure.toronto.ca/council/#/committees/2564/27184
LOCATION:Toronto City Hall\, 100 Queen Street West\, Toronto
CATEGORIES:City Hall meetings
ATTACH;FMTTYPE=image/jpeg:https://integrityto.ca/wp-content/uploads/2025/11/SLVQMEC3QVGC5D25QCHR7Z3RNE.jpeg
END:VEVENT
BEGIN:VEVENT
DTSTART;TZID=America/Toronto:20260327T093000
DTEND;TZID=America/Toronto:20260327T134829
DTSTAMP:20260420T093956
CREATED:20260111T012758Z
LAST-MODIFIED:20260308T174829Z
UID:10000141-1774603800-1774619309@integrityto.ca
SUMMARY:City Council
DESCRIPTION:
URL:https://integrityto.ca/event/city-council-3/2026-03-27/
LOCATION:Toronto City Hall\, 100 Queen Street West\, Toronto
CATEGORIES:City Hall meetings
ATTACH;FMTTYPE=image/jpeg:https://integrityto.ca/wp-content/uploads/2025/11/SLVQMEC3QVGC5D25QCHR7Z3RNE.jpeg
END:VEVENT
BEGIN:VEVENT
DTSTART;TZID=America/Toronto:20260326T093000
DTEND;TZID=America/Toronto:20260326T170000
DTSTAMP:20260420T093956
CREATED:20260111T012758Z
LAST-MODIFIED:20260308T174829Z
UID:10000083-1774517400-1774544400@integrityto.ca
SUMMARY:City Council
DESCRIPTION:
URL:https://integrityto.ca/event/city-council-3/2026-03-26/
LOCATION:Toronto City Hall\, 100 Queen Street West\, Toronto
CATEGORIES:City Hall meetings
ATTACH;FMTTYPE=image/jpeg:https://integrityto.ca/wp-content/uploads/2025/11/SLVQMEC3QVGC5D25QCHR7Z3RNE.jpeg
END:VEVENT
BEGIN:VEVENT
DTSTART;TZID=America/Toronto:20260325T093000
DTEND;TZID=America/Toronto:20260325T093000
DTSTAMP:20260420T093956
CREATED:20260111T012758Z
LAST-MODIFIED:20260308T174829Z
UID:10000082-1774431000-1774431000@integrityto.ca
SUMMARY:City Council
DESCRIPTION:
URL:https://integrityto.ca/event/city-council-3/2026-03-25/
LOCATION:Toronto City Hall\, 100 Queen Street West\, Toronto
CATEGORIES:City Hall meetings
ATTACH;FMTTYPE=image/jpeg:https://integrityto.ca/wp-content/uploads/2025/11/SLVQMEC3QVGC5D25QCHR7Z3RNE.jpeg
END:VEVENT
BEGIN:VEVENT
DTSTART;TZID=America/Toronto:20260319T190000
DTEND;TZID=America/Toronto:20260319T200000
DTSTAMP:20260420T093956
CREATED:20260303T161844Z
LAST-MODIFIED:20260319T102333Z
UID:10000117-1773946800-1773950400@integrityto.ca
SUMMARY:Dianne Saxe March Town Hall (Virtual)
DESCRIPTION:
URL:https://zoom.us/meeting/register/bPOKuQ6lQ7qTXa10WFjrEg#/registration
CATEGORIES:City Councillors
ATTACH;FMTTYPE=image/jpeg:https://integrityto.ca/wp-content/uploads/2026/03/IMG_4364.jpg
END:VEVENT
BEGIN:VEVENT
DTSTART;TZID=America/Toronto:20260312T093000
DTEND;TZID=America/Toronto:20260312T093000
DTSTAMP:20260420T093956
CREATED:20260307T204836Z
LAST-MODIFIED:20260307T204903Z
UID:10000119-1773307800-1773307800@integrityto.ca
SUMMARY:Toronto Preservation Board
DESCRIPTION:
URL:https://secure.toronto.ca/council/#/committees/2511/27276
LOCATION:Toronto City Hall\, 100 Queen Street West\, Toronto
CATEGORIES:City Hall meetings
ATTACH;FMTTYPE=image/jpeg:https://integrityto.ca/wp-content/uploads/2025/11/SLVQMEC3QVGC5D25QCHR7Z3RNE.jpeg
END:VEVENT
BEGIN:VEVENT
DTSTART;TZID=America/Toronto:20260311T093000
DTEND;TZID=America/Toronto:20260311T093000
DTSTAMP:20260420T093956
CREATED:20260307T204627Z
LAST-MODIFIED:20260307T204647Z
UID:10000118-1773221400-1773221400@integrityto.ca
SUMMARY:Toronto Parking Authority
DESCRIPTION:
URL:https://secure.toronto.ca/council/#/committees/2490/27370
LOCATION:Toronto City Hall\, 100 Queen Street West\, Toronto
CATEGORIES:City Hall meetings
ATTACH;FMTTYPE=image/jpeg:https://integrityto.ca/wp-content/uploads/2025/11/SLVQMEC3QVGC5D25QCHR7Z3RNE.jpeg
END:VEVENT
BEGIN:VEVENT
DTSTART;TZID=America/Toronto:20260310T183000
DTEND;TZID=America/Toronto:20260310T200000
DTSTAMP:20260420T093956
CREATED:20260224T191618Z
LAST-MODIFIED:20260224T191641Z
UID:10000114-1773167400-1773172800@integrityto.ca
SUMMARY:Councillor Burnside Don Mills Town Hall
DESCRIPTION:
URL:https://integrityto.ca/event/councillor-burnside-don-mills-town-hall/
LOCATION:Japanese Canadian Cultural Centre\, 6 Sakura Way\, Toronto
CATEGORIES:City Councillors
ATTACH;FMTTYPE=image/avif:https://integrityto.ca/wp-content/uploads/2026/02/190f9d_4163778d20c84fc9ac4945162076fc8fmv2.avif
END:VEVENT
BEGIN:VEVENT
DTSTART;TZID=America/Toronto:20260310T093000
DTEND;TZID=America/Toronto:20260310T093000
DTSTAMP:20260420T093956
CREATED:20260111T012412Z
LAST-MODIFIED:20260113T153927Z
UID:10000081-1773135000-1773135000@integrityto.ca
SUMMARY:Executive Committee
DESCRIPTION:
URL:https://secure.toronto.ca/council/#/committees/2468/27177
LOCATION:Toronto City Hall\, 100 Queen Street West\, Toronto
CATEGORIES:City Hall meetings
ATTACH;FMTTYPE=image/jpeg:https://integrityto.ca/wp-content/uploads/2025/11/SLVQMEC3QVGC5D25QCHR7Z3RNE.jpeg
END:VEVENT
BEGIN:VEVENT
DTSTART;TZID=America/Toronto:20260309T093000
DTEND;TZID=America/Toronto:20260309T093000
DTSTAMP:20260420T093956
CREATED:20260111T011102Z
LAST-MODIFIED:20260113T153834Z
UID:10000080-1773048600-1773048600@integrityto.ca
SUMMARY:General Government Committee
DESCRIPTION:
URL:https://secure.toronto.ca/council/#/committees/2542/27211
LOCATION:Toronto City Hall\, 100 Queen Street West\, Toronto
CATEGORIES:City Hall meetings
ATTACH;FMTTYPE=image/jpeg:https://integrityto.ca/wp-content/uploads/2025/11/SLVQMEC3QVGC5D25QCHR7Z3RNE.jpeg
END:VEVENT
BEGIN:VEVENT
DTSTART;TZID=America/Toronto:20260306T133000
DTEND;TZID=America/Toronto:20260306T133000
DTSTAMP:20260420T093956
CREATED:20260111T010803Z
LAST-MODIFIED:20260113T153750Z
UID:10000079-1772803800-1772803800@integrityto.ca
SUMMARY:CreateTO
DESCRIPTION:
URL:https://secure.toronto.ca/council/#/committees/2483/27353
LOCATION:Toronto City Hall\, 100 Queen Street West\, Toronto
CATEGORIES:City Hall meetings
ATTACH;FMTTYPE=image/jpeg:https://integrityto.ca/wp-content/uploads/2025/11/SLVQMEC3QVGC5D25QCHR7Z3RNE.jpeg
END:VEVENT
BEGIN:VEVENT
DTSTART;TZID=America/Toronto:20260303T183000
DTEND;TZID=America/Toronto:20260303T200000
DTSTAMP:20260420T093956
CREATED:20260224T191844Z
LAST-MODIFIED:20260224T191856Z
UID:10000115-1772562600-1772568000@integrityto.ca
SUMMARY:Councillor Burnside Ranchdale Town Hall
DESCRIPTION:
URL:https://integrityto.ca/event/councillor-burnside-ranchdale-town-hall/
LOCATION:Ranchdale Public School\, 60 Ranchdale Crescent\, Toronto
CATEGORIES:City Councillors
ATTACH;FMTTYPE=image/png:https://integrityto.ca/wp-content/uploads/2026/02/Screenshot-2026-02-24-14.10.34.png
END:VEVENT
BEGIN:VEVENT
DTSTART;TZID=America/Toronto:20260227T090000
DTEND;TZID=America/Toronto:20260227T090000
DTSTAMP:20260420T093956
CREATED:20260226T040329Z
LAST-MODIFIED:20260226T040413Z
UID:10000116-1772182800-1772182800@integrityto.ca
SUMMARY:(Special) Toronto and East York Community Council
DESCRIPTION:
URL:https://secure.toronto.ca/council/#/committees/2466/28052
LOCATION:Toronto City Hall\, 100 Queen Street West\, Toronto
CATEGORIES:City Hall meetings
ATTACH;FMTTYPE=image/jpeg:https://integrityto.ca/wp-content/uploads/2025/11/SLVQMEC3QVGC5D25QCHR7Z3RNE.jpeg
END:VEVENT
BEGIN:VEVENT
DTSTART;TZID=America/Toronto:20260226T180000
DTEND;TZID=America/Toronto:20260226T200000
DTSTAMP:20260420T093956
CREATED:20260107T033711Z
LAST-MODIFIED:20260204T015540Z
UID:10000069-1772128800-1772136000@integrityto.ca
SUMMARY:Shelter Community Meeting
DESCRIPTION:
URL:https://www.alejandrabravo.ca/community_meeting_new_family_shelter_at_108_harrison_st_20260226
LOCATION:St. Helen Catholic School\, 1196 College Street\, Toronto
CATEGORIES:City Councillors
ATTACH;FMTTYPE=image/jpeg:https://integrityto.ca/wp-content/uploads/2026/01/IMG_3954.jpg
END:VEVENT
BEGIN:VEVENT
DTSTART;TZID=America/Toronto:20260226T093000
DTEND;TZID=America/Toronto:20260226T093000
DTSTAMP:20260420T093956
CREATED:20251208T004110Z
LAST-MODIFIED:20251208T004152Z
UID:10000061-1772098200-1772098200@integrityto.ca
SUMMARY:Planning and Housing Committee
DESCRIPTION:
URL:https://secure.toronto.ca/council/#/committees/2565/27193
LOCATION:Toronto City Hall\, 100 Queen Street West\, Toronto
CATEGORIES:City Hall meetings
ATTACH;FMTTYPE=image/jpeg:https://integrityto.ca/wp-content/uploads/2025/11/SLVQMEC3QVGC5D25QCHR7Z3RNE.jpeg
END:VEVENT
BEGIN:VEVENT
DTSTART;TZID=America/Toronto:20260225T093000
DTEND;TZID=America/Toronto:20260225T093000
DTSTAMP:20260420T093956
CREATED:20251208T003910Z
LAST-MODIFIED:20251208T004218Z
UID:10000062-1772011800-1772011800@integrityto.ca
SUMMARY:Infrastructure and Environment Committee
DESCRIPTION:
URL:https://secure.toronto.ca/council/#/committees/2566/27202
LOCATION:Toronto City Hall\, 100 Queen Street West\, Toronto
CATEGORIES:City Hall meetings
ATTACH;FMTTYPE=image/jpeg:https://integrityto.ca/wp-content/uploads/2025/11/SLVQMEC3QVGC5D25QCHR7Z3RNE.jpeg
END:VEVENT
BEGIN:VEVENT
DTSTART;TZID=America/Toronto:20260224T183000
DTEND;TZID=America/Toronto:20260224T200000
DTSTAMP:20260420T093956
CREATED:20260209T200007Z
LAST-MODIFIED:20260221T014220Z
UID:10000111-1771957800-1771963200@integrityto.ca
SUMMARY:Ward 15 Virtual Town Hall
DESCRIPTION:
URL:https://us06web.zoom.us/webinar/register/1917694772330/WN_qXzm2tDDSK2BmQt-vKfVeA#/registration
CATEGORIES:City Councillors
ATTACH;FMTTYPE=image/jpeg:https://integrityto.ca/wp-content/uploads/2026/02/IMG_4197.jpg
END:VEVENT
BEGIN:VEVENT
DTSTART;TZID=America/Toronto:20260224T093000
DTEND;TZID=America/Toronto:20260224T093000
DTSTAMP:20260420T093956
CREATED:20251208T003708Z
LAST-MODIFIED:20251208T004301Z
UID:10000063-1771925400-1771925400@integrityto.ca
SUMMARY:Economic and Community Development Committee
DESCRIPTION:
URL:https://secure.toronto.ca/council/#/committees/2563/27210
LOCATION:Toronto City Hall\, 100 Queen Street West\, Toronto
CATEGORIES:City Hall meetings
ATTACH;FMTTYPE=image/jpeg:https://integrityto.ca/wp-content/uploads/2025/11/SLVQMEC3QVGC5D25QCHR7Z3RNE.jpeg
END:VEVENT
BEGIN:VEVENT
DTSTART;TZID=America/Toronto:20260223T093000
DTEND;TZID=America/Toronto:20260223T093000
DTSTAMP:20260420T093956
CREATED:20251208T003542Z
LAST-MODIFIED:20251208T004626Z
UID:10000064-1771839000-1771839000@integrityto.ca
SUMMARY:Board of Health
DESCRIPTION:
URL:https://secure.toronto.ca/council/#/committees/2564/27183
LOCATION:Toronto City Hall\, 100 Queen Street West\, Toronto
CATEGORIES:City Hall meetings
ATTACH;FMTTYPE=image/jpeg:https://integrityto.ca/wp-content/uploads/2025/11/SLVQMEC3QVGC5D25QCHR7Z3RNE.jpeg
END:VEVENT
BEGIN:VEVENT
DTSTART;TZID=America/Toronto:20260219T183000
DTEND;TZID=America/Toronto:20260219T200000
DTSTAMP:20260420T093956
CREATED:20260214T160724Z
LAST-MODIFIED:20260214T160734Z
UID:10000113-1771525800-1771531200@integrityto.ca
SUMMARY:Davenport Snow Response Town Hall
DESCRIPTION:
URL:https://www.alejandrabravo.ca/snowtownhall
CATEGORIES:City Councillors
ATTACH;FMTTYPE=image/avif:https://integrityto.ca/wp-content/uploads/2026/02/Snow_town_hall.avif
END:VEVENT
BEGIN:VEVENT
DTSTART;TZID=America/Toronto:20260219T093000
DTEND;TZID=America/Toronto:20260219T093000
DTSTAMP:20260420T093956
CREATED:20251207T230644Z
LAST-MODIFIED:20251207T230717Z
UID:10000057-1771493400-1771493400@integrityto.ca
SUMMARY:Toronto and East York Community Council
DESCRIPTION:
URL:https://secure.toronto.ca/council/#/committees/2466/27207
LOCATION:Toronto City Hall\, 100 Queen Street West\, Toronto
CATEGORIES:City Hall meetings
ATTACH;FMTTYPE=image/jpeg:https://integrityto.ca/wp-content/uploads/2025/11/SLVQMEC3QVGC5D25QCHR7Z3RNE.jpeg
END:VEVENT
BEGIN:VEVENT
DTSTART;TZID=America/Toronto:20260219T093000
DTEND;TZID=America/Toronto:20260219T093000
DTSTAMP:20260420T093956
CREATED:20251207T230414Z
LAST-MODIFIED:20251207T230804Z
UID:10000058-1771493400-1771493400@integrityto.ca
SUMMARY:Scarborough Community Council
DESCRIPTION:
URL:https://secure.toronto.ca/council/#/committees/2467/27197
LOCATION:Scarborough Civic Centre\, 150 Borough Drive\, Toronto
CATEGORIES:City Hall meetings
ATTACH;FMTTYPE=image/jpeg:https://integrityto.ca/wp-content/uploads/2025/11/SLVQMEC3QVGC5D25QCHR7Z3RNE.jpeg
END:VEVENT
BEGIN:VEVENT
DTSTART;TZID=America/Toronto:20260218T093000
DTEND;TZID=America/Toronto:20260218T093000
DTSTAMP:20260420T093956
CREATED:20251207T230153Z
LAST-MODIFIED:20251207T230905Z
UID:10000059-1771407000-1771407000@integrityto.ca
SUMMARY:North York Community Council
DESCRIPTION:
URL:https://secure.toronto.ca/council/#/committees/2465/27196
LOCATION:North York Civic Centre\, 5100 Yonge Street\, Toronto
CATEGORIES:City Hall meetings
ATTACH;FMTTYPE=image/jpeg:https://integrityto.ca/wp-content/uploads/2025/11/SLVQMEC3QVGC5D25QCHR7Z3RNE.jpeg
END:VEVENT
BEGIN:VEVENT
DTSTART;TZID=America/Toronto:20260218T093000
DTEND;TZID=America/Toronto:20260218T093000
DTSTAMP:20260420T093956
CREATED:20251207T230028Z
LAST-MODIFIED:20251207T230944Z
UID:10000060-1771407000-1771407000@integrityto.ca
SUMMARY:Etobicoke York Community Council
DESCRIPTION:
URL:https://secure.toronto.ca/council/#/committees/2464/27195
LOCATION:Etobicoke Civic Centre\, 399 The West Mall\, Toronto
CATEGORIES:City Hall meetings
ATTACH;FMTTYPE=image/jpeg:https://integrityto.ca/wp-content/uploads/2025/11/SLVQMEC3QVGC5D25QCHR7Z3RNE.jpeg
END:VEVENT
BEGIN:VEVENT
DTSTART;TZID=America/Toronto:20260214T120000
DTEND;TZID=America/Toronto:20260214T180000
DTSTAMP:20260420T093956
CREATED:20260129T190222Z
LAST-MODIFIED:20260129T190222Z
UID:10000092-1771070400-1771092000@integrityto.ca
SUMMARY:Family Day Skate in Regent Park
DESCRIPTION:
URL:https://www.chrismoise.ca/family_day_skate_in_regent_park
LOCATION:Regent Park Ice Rink\, 480 Shuter Street\, Toronto
CATEGORIES:City Councillors
ATTACH;FMTTYPE=image/avif:https://integrityto.ca/wp-content/uploads/2026/01/16103755923_59412b6ec8_o.avif
END:VEVENT
BEGIN:VEVENT
DTSTART;TZID=America/Toronto:20260213T100000
DTEND;TZID=America/Toronto:20260213T120000
DTSTAMP:20260420T093956
CREATED:20260201T195527Z
LAST-MODIFIED:20260201T195538Z
UID:10000093-1770976800-1770984000@integrityto.ca
SUMMARY:Coffee with the Councillor
DESCRIPTION:
URL:https://docs.google.com/forms/d/1RdqiGKhPoiPGAvTi3UwhJlsWxciXp5Mk16ybSIE3o6Q/viewform?ts=697cfe51&#038;edit_requested=true
LOCATION:Warden Hilltop Community Centre\, 25 Mendelssohn Street\, Scarborough
CATEGORIES:City Councillors
ATTACH;FMTTYPE=image/jpeg:https://integrityto.ca/wp-content/uploads/2026/02/IMG_3941.jpg
END:VEVENT
BEGIN:VEVENT
DTSTART;TZID=America/Toronto:20260212T173000
DTEND;TZID=America/Toronto:20260212T193000
DTSTAMP:20260420T093956
CREATED:20260201T202909Z
LAST-MODIFIED:20260201T202931Z
UID:10000094-1770917400-1770924600@integrityto.ca
SUMMARY:720 Bathurst St Shelter - Community Drop-In Event
DESCRIPTION:
URL:https://www.toronto.ca/community-people/housing-shelter/homeless-help/about-torontos-shelter-system/developing-shelter-sites/720-bathurst-st/
LOCATION:720 Bathurst Street\, 720 Bathurst Street\, Toronto
CATEGORIES:City Councillors
ATTACH;FMTTYPE=image/jpeg:https://integrityto.ca/wp-content/uploads/2026/02/IMG_3942.jpg
END:VEVENT
BEGIN:VEVENT
DTSTART;TZID=America/Toronto:20260210T093000
DTEND;TZID=America/Toronto:20260210T093000
DTSTAMP:20260420T093956
CREATED:20251207T223920Z
LAST-MODIFIED:20260113T152714Z
UID:10000054-1770715800-1770715800@integrityto.ca
SUMMARY:City Council (2026 Budget)
DESCRIPTION:
URL:https://secure.toronto.ca/council/#/committees/2462/27170
LOCATION:Toronto City Hall\, 100 Queen Street West\, Toronto
CATEGORIES:City Budget
ATTACH;FMTTYPE=image/jpeg:https://integrityto.ca/wp-content/uploads/2025/12/images-1.jpeg
END:VEVENT
END:VCALENDAR