BEGIN:VCALENDAR
VERSION:2.0
PRODID:-//IntegrityTO - ECPv6.15.20//NONSGML v1.0//EN
CALSCALE:GREGORIAN
METHOD:PUBLISH
X-WR-CALNAME:IntegrityTO
X-ORIGINAL-URL:https://integrityto.ca
X-WR-CALDESC:Events for IntegrityTO
REFRESH-INTERVAL;VALUE=DURATION:PT1H
X-Robots-Tag:noindex
X-PUBLISHED-TTL:PT1H
BEGIN:VTIMEZONE
TZID:America/Toronto
BEGIN:DAYLIGHT
TZOFFSETFROM:-0500
TZOFFSETTO:-0400
TZNAME:EDT
DTSTART:20250309T070000
END:DAYLIGHT
BEGIN:STANDARD
TZOFFSETFROM:-0400
TZOFFSETTO:-0500
TZNAME:EST
DTSTART:20251102T060000
END:STANDARD
BEGIN:DAYLIGHT
TZOFFSETFROM:-0500
TZOFFSETTO:-0400
TZNAME:EDT
DTSTART:20260308T070000
END:DAYLIGHT
BEGIN:STANDARD
TZOFFSETFROM:-0400
TZOFFSETTO:-0500
TZNAME:EST
DTSTART:20261101T060000
END:STANDARD
BEGIN:DAYLIGHT
TZOFFSETFROM:-0500
TZOFFSETTO:-0400
TZNAME:EDT
DTSTART:20270314T070000
END:DAYLIGHT
BEGIN:STANDARD
TZOFFSETFROM:-0400
TZOFFSETTO:-0500
TZNAME:EST
DTSTART:20271107T060000
END:STANDARD
END:VTIMEZONE
BEGIN:VEVENT
DTSTART;TZID=America/Toronto:20260113T180000
DTEND;TZID=America/Toronto:20260113T200000
DTSTAMP:20260420T114907
CREATED:20251222T201742Z
LAST-MODIFIED:20251222T202145Z
UID:10000067-1768327200-1768334400@integrityto.ca
SUMMARY:Wards 10 & 13 Budget Town Hall
DESCRIPTION:
URL:https://www.ausmamalik.ca/2026budgettownhall
LOCATION:Toronto City Hall\, 100 Queen Street West\, Toronto
CATEGORIES:City Budget,City Councillors
ATTACH;FMTTYPE=image/jpeg:https://integrityto.ca/wp-content/uploads/2025/12/IMG_3490.jpg
END:VEVENT
BEGIN:VEVENT
DTSTART;TZID=America/Toronto:20260114T180000
DTEND;TZID=America/Toronto:20260114T200000
DTSTAMP:20260420T114907
CREATED:20260107T034055Z
LAST-MODIFIED:20260107T034055Z
UID:10000070-1768413600-1768420800@integrityto.ca
SUMMARY:2026 Budget Town Hall
DESCRIPTION:
URL:https://integrityto.ca/event/2026-budget-town-hall/
LOCATION:Warden Hilltop Community Centre\, 25 Mendelssohn Street\, Scarborough
CATEGORIES:City Budget,City Councillors
ATTACH;FMTTYPE=image/jpeg:https://integrityto.ca/wp-content/uploads/2026/01/IMG_3640.jpg
END:VEVENT
BEGIN:VEVENT
DTSTART;TZID=America/Toronto:20260117T103000
DTEND;TZID=America/Toronto:20260117T120000
DTSTAMP:20260420T114907
CREATED:20251222T201250Z
LAST-MODIFIED:20251222T202025Z
UID:10000066-1768645800-1768651200@integrityto.ca
SUMMARY:Willowdale Virtual Budget Town Hall
DESCRIPTION:
URL:https://www.lilycheng.ca/event-details-registration/virtual-budget-town-hall
CATEGORIES:City Budget,City Councillors
ATTACH;FMTTYPE=image/jpeg:https://integrityto.ca/wp-content/uploads/2025/12/IMG_3488.jpeg
END:VEVENT
BEGIN:VEVENT
DTSTART;TZID=America/Toronto:20260119T180000
DTEND;TZID=America/Toronto:20260119T180000
DTSTAMP:20260420T114907
CREATED:20260110T180836Z
LAST-MODIFIED:20260113T151551Z
UID:10000074-1768845600-1768845600@integrityto.ca
SUMMARY:Ward 4 Budget Town Hall
DESCRIPTION:
URL:https://www.gordperks.ca/2026budget
CATEGORIES:City Budget,City Councillors
ATTACH;FMTTYPE=image/jpeg:https://integrityto.ca/wp-content/uploads/2026/01/IMG_3683.jpg
END:VEVENT
BEGIN:VEVENT
DTSTART;TZID=America/Toronto:20260119T183000
DTEND;TZID=America/Toronto:20260119T200000
DTSTAMP:20260420T114907
CREATED:20260110T175636Z
LAST-MODIFIED:20260117T205834Z
UID:10000071-1768847400-1768852800@integrityto.ca
SUMMARY:Etobicoke - Lakeshore 2026 Budget Town Hall
DESCRIPTION:
URL:https://docs.google.com/forms/d/e/1FAIpQLSciGe_0_DGoCPd27TE7CL8PMjrZtVjJjC4aPtlKnq_NTu3ybQ/viewform
LOCATION:Assembly Hall\, 1 Colonel Samuel Smith Park Drive\, Etobicoke
CATEGORIES:City Budget,City Councillors
ATTACH;FMTTYPE=image/jpeg:https://integrityto.ca/wp-content/uploads/2026/01/IMG_3686.jpg
END:VEVENT
BEGIN:VEVENT
DTSTART;TZID=America/Toronto:20260119T190000
DTEND;TZID=America/Toronto:20260119T190000
DTSTAMP:20260420T114907
CREATED:20251222T201006Z
LAST-MODIFIED:20251222T202106Z
UID:10000068-1768849200-1768849200@integrityto.ca
SUMMARY:Don Valley North Virtual Budget Town Hall
DESCRIPTION:RSVP: shelleycarroll.ca/Budget2026
URL:https://www.shelleycarroll.ca/events-1/dvn-2026-budget-town-hall
CATEGORIES:City Budget,City Councillors
ATTACH;FMTTYPE=image/jpeg:https://integrityto.ca/wp-content/uploads/2025/12/IMG_3487.jpeg
END:VEVENT
BEGIN:VEVENT
DTSTART;TZID=America/Toronto:20260120T180000
DTEND;TZID=America/Toronto:20260120T193000
DTSTAMP:20260420T114907
CREATED:20260116T214356Z
LAST-MODIFIED:20260116T214412Z
UID:10000087-1768932000-1768937400@integrityto.ca
SUMMARY:Scarborough - Rouge Park Virtual Town Hall: 2026 Budget
DESCRIPTION:
URL:https://www.eventbrite.ca/e/scarborough-rouge-park-virtual-town-hall-2026-toronto-budget-tickets-1980023026172?aff=oddtdtcreator
CATEGORIES:City Budget,City Councillors
ATTACH;FMTTYPE=image/jpeg:https://integrityto.ca/wp-content/uploads/2026/01/IMG_3711-1.jpg
END:VEVENT
BEGIN:VEVENT
DTSTART;TZID=America/Toronto:20260128T180000
DTEND;TZID=America/Toronto:20260128T200000
DTSTAMP:20260420T114907
CREATED:20260122T035002Z
LAST-MODIFIED:20260122T035040Z
UID:10000089-1769623200-1769630400@integrityto.ca
SUMMARY:Canoe Landing Community Safety Town Hall
DESCRIPTION:Join us on Wednesday\, January 28th for a Community Safety Town Hall\, hosted in partnership with parents from Jean Lumb Public School and Bishop MacDonnell Catholic School. This is your chance to help shape the future of our neighbourhood. \nWe’ve been pushing forward real improvements\, from establishing a Community Safety Zone and advancing traffic‑calming measures to resolving nearby encampments and bringing exciting upgrades to Canoe Landing\, including two new Dog Off-Leash Areas. We want to continue our work together. \nThe evening features a panel with Deputy Mayor Ausma Malik\, MPP Chris Glover\, City of Toronto staff\, and community partners\, followed by a Q&A from the audience.
URL:https://www.ausmamalik.ca/cltownhall
LOCATION:The Bentway Studio\, 55 Fort York Blvd\, Toronto
CATEGORIES:City Councillors
END:VEVENT
BEGIN:VEVENT
DTSTART;TZID=America/Toronto:20260129T183000
DTEND;TZID=America/Toronto:20260129T200000
DTSTAMP:20260420T114907
CREATED:20260117T210227Z
LAST-MODIFIED:20260117T210310Z
UID:10000088-1769711400-1769716800@integrityto.ca
SUMMARY:Dufferin Grove Park Community Meeting
DESCRIPTION:
URL:https://www.alejandrabravo.ca/dufferin_grove_park_community_check_in_meeting
LOCATION:St. Mary Catholic Academy\, 66 Dufferin Park Avenue\, Toronto
CATEGORIES:City Councillors
ATTACH;FMTTYPE=image/jpeg:https://integrityto.ca/wp-content/uploads/2026/01/IMG_3784.jpeg
END:VEVENT
BEGIN:VEVENT
DTSTART;TZID=America/Toronto:20260129T190000
DTEND;TZID=America/Toronto:20260129T203000
DTSTAMP:20260420T114907
CREATED:20260122T163212Z
LAST-MODIFIED:20260122T163351Z
UID:10000090-1769713200-1769718600@integrityto.ca
SUMMARY:Meeting with Councillor Dianne Saxe - Queen's Park North
DESCRIPTION:
URL:https://zoom.us/meeting/register/Xy6VhtbgQda0chstgAvjIw#/registration
CATEGORIES:City Councillors
ATTACH;FMTTYPE=image/jpeg:https://integrityto.ca/wp-content/uploads/2026/01/IMG_3833.jpg
END:VEVENT
END:VCALENDAR